BEGIN:VCALENDAR
PRODID:NingEventWidget-v1
VERSION:2.0
METHOD:PUBLISH
BEGIN:VEVENT
UID:1791588:Event:163934
DTSTAMP:20260423T103749Z
SUMMARY:Trauma & Acute Care Sonography
DESCRIPTION:Our Trauma Ultrasound Course provides participants with a 
 strong foundation to perform and/or interpret the core ultrasound appl
 ications performed in a Trauma setting. This unique ultrasound trainin
 g course incorporates comprehensive lectures, interactive case present
 ations, and extensive hands-on scanning, featuring a 3:1 ratio with li
 ve models and inanimate phantoms.\n\nFor more information visit https:
 //community.radrounds.com/events/trauma-acute-care-sonography
DTSTART:20160209T050000Z
DTEND:20160210T045900Z
CATEGORIES:ultrasound, cme, seminar
LOCATION:Gulfcoast Ultrasound Institute, Inc.
WEBSITE:https://www.gcus.com/courses/about.asp?course=921/Ultrasound-i
 n-Trauma
URL:https://www.gcus.com/courses/about.asp?course=921/Ultrasound-in-Tr
 auma
CONTACT:7273634500
ORGANIZER;CN="Casey Green":https://community.radrounds.com/profile/Jam
 esSalame
ATTACH;FMTTYPE="image/jpeg":
ATTENDEE;ROLE=REQ-PARTICIPANT;PARTSTAT=ACCEPTED;RSVP=TRUE;CN="Casey Gr
 een":https://community.radrounds.com/profile/JamesSalame
END:VEVENT
END:VCALENDAR
