BEGIN:VCALENDAR
PRODID:NingEventWidget-v1
VERSION:2.0
METHOD:PUBLISH
BEGIN:VEVENT
UID:1791588:Event:172171
DTSTAMP:20260422T114622Z
SUMMARY:Trade Secrets for Expert Mammographers (Live Event)
DESCRIPTION:Course Topics\n\nCurrent Breast Cancer Stats\nEthnicity an
 d Breast Cancer\nPatient Communication Skills for Mammographers\nAn In
 tro to Digital Breast Tomosynthesis\nGenetic Testing\nBRACA 1 & 2\nHER
 2\nEGFR Status\nGenomic Assays\nCharacteristics of Breast Calcificatio
 ns\nPositioning and Technique Considerations\nAdvanced Breast Imaging 
 Modalities\nMammographics Pathology of the Breast\n\n\nFor more inform
 ation visit https://community.radrounds.com/events/trade-secrets-for-e
 xpert-mammographers-live-event
DTSTART:20170513T130000Z
DTEND:20170513T203000Z
CATEGORIES:live, event
LOCATION:TBD
WEBSITE:https://store.aheconline.com/index.php?route=product/product&p
 ath=59&product_id=2900
URL:https://store.aheconline.com/index.php?route=product/product&path=
 59&product_id=2900
CONTACT:800-239-1361
ORGANIZER;CN="Larry Carney":https://community.radrounds.com/profile/La
 rryCarney
ATTACH;FMTTYPE="image/jpeg":
ATTENDEE;ROLE=REQ-PARTICIPANT;PARTSTAT=ACCEPTED;RSVP=TRUE;CN="Larry Ca
 rney":https://community.radrounds.com/profile/LarryCarney
END:VEVENT
END:VCALENDAR
