BEGIN:VCALENDAR
PRODID:NingEventWidget-v1
VERSION:2.0
METHOD:PUBLISH
BEGIN:VEVENT
UID:1791588:Event:167947
DTSTAMP:20260420T231117Z
SUMMARY:Trade Secrets for Expert Mammographers
DESCRIPTION:Course Topics\n\nCurrent Breast Cancer Stats\nEthnicity an
 d Breast Cancer\nPatient Communication Skills for Mammographers\nAn In
 tro to Digital Breast Tomosynthesis\nGenetic Testing\nBRACA 1 & 2\nHER
 2\nEGFR Status\nGenomic Assays\nCharacteristics of Breast Calcificatio
 ns\nPositioning and Technique Considerations\nAdvanced Breast Imaging 
 Modalities\nMammographics Pathology of the Breast\n\nCourse Objectives
 \n\nDiscuss current breast cancer trends\nRecognize and understand the
  need for effective communication skills in mammography\nDisplay a wor
 king knowledge of Digital Breast Tomosynthesis\nIdentify and discuss g
 enetic mutations associated with breast cancer\nIdentify positioning c
 hallenges and describe various solutions\nDemonstrate knowledge of adv
 anced breast imaging modalities\nIdentify various mammographic benign,
  high risk, and malignant pathologies\n\n\nFor more information visit 
 https://community.radrounds.com/events/trade-secrets-for-expert-mammog
 raphers-4
DTSTART:20160923T120000Z
DTEND:20160923T201500Z
CATEGORIES:live, event
LOCATION:Portland
WEBSITE:https://store.aheconline.com/index.php?route=product/product&p
 ath=59&product_id=2580
URL:https://store.aheconline.com/index.php?route=product/product&path=
 59&product_id=2580
CONTACT:18002391361
ORGANIZER;CN="Larry Carney":https://community.radrounds.com/profile/La
 rryCarney
ATTACH;FMTTYPE="image/jpeg":
ATTENDEE;ROLE=REQ-PARTICIPANT;PARTSTAT=ACCEPTED;RSVP=TRUE;CN="Larry Ca
 rney":https://community.radrounds.com/profile/LarryCarney
END:VEVENT
END:VCALENDAR
