BEGIN:VCALENDAR
PRODID:NingEventWidget-v1
VERSION:2.0
METHOD:PUBLISH
BEGIN:VEVENT
UID:1791588:Event:167920
DTSTAMP:20260420T194912Z
SUMMARY:Trade Secrets for Expert Mammographers
DESCRIPTION:Course Topics\n\nCurrent Breast Cancer Stats\nEthnicity an
 d Breast Cancer\nPatient Communication Skills for Mammographers\nAn In
 tro to Digital Breast Tomosynthesis\nGenetic Testing\nBRACA 1 & 2\nHER
 2\nEGFR Status\nGenomic Assays\nCharacteristics of Breast Calcificatio
 ns\nPositioning and Technique Considerations\nAdvanced Breast Imaging 
 Modalities\nMammographics Pathology of the Breas\n\n\nFor more informa
 tion visit https://community.radrounds.com/events/trade-secrets-for-ex
 pert-mammographers-3
DTSTART:20160730T120000Z
DTEND:20160730T201500Z
CATEGORIES:live, event
LOCATION:San Francisco
WEBSITE:https://store.aheconline.com/index.php?route=product/product&p
 ath=59_78&product_id=2579
URL:https://store.aheconline.com/index.php?route=product/product&path=
 59_78&product_id=2579
CONTACT:18002391361
ORGANIZER;CN="Larry Carney":https://community.radrounds.com/profile/La
 rryCarney
ATTACH;FMTTYPE="image/jpeg":
ATTENDEE;ROLE=REQ-PARTICIPANT;PARTSTAT=ACCEPTED;RSVP=TRUE;CN="Larry Ca
 rney":https://community.radrounds.com/profile/LarryCarney
END:VEVENT
END:VCALENDAR
