BEGIN:VCALENDAR
PRODID:NingEventWidget-v1
VERSION:2.0
METHOD:PUBLISH
BEGIN:VEVENT
UID:1791588:Event:172083
DTSTAMP:20260422T145854Z
SUMMARY:Tips and Techniques for Self-Preservation for the RT (Live Web
 inar)
DESCRIPTION:Course Topics\nHow to Keep Your Cool: Stress Management\n1
 . Stress Defined\n2. Self-Assessment – Internal and External Stresso
 rs\n3. Three Stages of Stress\n4. Common Stress Signs\n5. Techniques t
 o Better Manage Stress\n6. Session Summary and Follow Up Class Details
  (Evaluation)\n\nThe Gift of Time: Skills for Time Management\n1. Topi
 c Introduction\n2. Time Management Personal Assessment\n3. Techniques 
 for Planning and Achieving Goals\n4. Strategies for Taking Control of 
 Things that Derail Workplace Productivity\n5. Session Summary and Foll
 ow-Up Class Details (Evaluation)\nCommunicating For Success\n· Verbal
  communication\n· Non-Verbal Communication\n· Dimensions of Non-Verb
 al Communication\n   oKinesics\n   oProxemics\n   oParalinguisti
 c\n   oTouch\n   oPhysical and environmental factors\n· Patient C
 ommunication\n· Evaluating Non-Verbal Communication\n\nFor more infor
 mation visit https://community.radrounds.com/events/tips-and-technique
 s-for-self-preservation-for-the-rt-live-webinar
DTSTART:20170513T130000Z
DTEND:20170513T153000Z
CATEGORIES:live, webinar
LOCATION:Advanced Health Education Center
WEBSITE:https://store.aheconline.com/index.php?route=product/product&p
 ath=59_167&product_id=2996
URL:https://store.aheconline.com/index.php?route=product/product&path=
 59_167&product_id=2996
CONTACT:800-239-1361
ORGANIZER;CN="Larry Carney":https://community.radrounds.com/profile/La
 rryCarney
ATTACH;FMTTYPE="image/jpeg":
ATTENDEE;ROLE=REQ-PARTICIPANT;PARTSTAT=ACCEPTED;RSVP=TRUE;CN="Larry Ca
 rney":https://community.radrounds.com/profile/LarryCarney
END:VEVENT
END:VCALENDAR
