BEGIN:VCALENDAR
PRODID:NingEventWidget-v1
VERSION:2.0
METHOD:PUBLISH
BEGIN:VEVENT
UID:1791588:Event:183382
DTSTAMP:20260424T161647Z
SUMMARY:Tips and Techniques for Self-Preservation for the RT (Live Web
 inar)
DESCRIPTION:Course Topics:\n- How to Keep Your Cool: Stress Management
 \n- The Gift of Time: Skills for Time Management\n- Communicating for 
 Success\n\nFor more information visit https://community.radrounds.com/
 events/tips-and-techniques-for-self-preservation-for-the-rt-live-webin
 -7
DTSTART:20180822T150000Z
DTEND:20180822T180000Z
CATEGORIES:live, webinar
LOCATION:Advanced Health Education Center
WEBSITE:https://store.aheconline.com/
URL:https://store.aheconline.com/
CONTACT:800-239-1361
ORGANIZER;CN="Larry Carney":https://community.radrounds.com/profile/La
 rryCarney
ATTACH;FMTTYPE="image/jpeg":
ATTENDEE;ROLE=REQ-PARTICIPANT;PARTSTAT=ACCEPTED;RSVP=TRUE;CN="Larry Ca
 rney":https://community.radrounds.com/profile/LarryCarney
END:VEVENT
END:VCALENDAR
