BEGIN:VCALENDAR
PRODID:NingEventWidget-v1
VERSION:2.0
METHOD:PUBLISH
BEGIN:VEVENT
UID:1791588:Event:172472
DTSTAMP:20260423T204240Z
SUMMARY:Tips and Techniques for Self-Preservation for the RT (Live Web
 inar)
DESCRIPTION:Course Topics\nHow to Keep Your Cool: Stress Management\n1
 .Â Â Â Â Â  Stress Defined\n2.Â Â Â Â Â  Self-Assessment â€“ Internal 
 and External Stressors\n3.Â Â Â Â Â  Three Stages of Stress\n4.Â Â Â Â
  Â  Common Stress Signs\n5.Â Â Â Â Â  Techniques to Better Manage Stre
 ss\n6.Â Â Â Â Â  Session Summary and Follow Up Class Details (Evaluati
 on)\nThe Gift of Time: Skills for Time Management\n1.Â Â Â Â Â  Topic 
 Introduction\n2.Â Â Â Â Â  Time Management Personal Assessment\n3.Â Â 
 Â Â Â  Techniques for Planning and Achieving Goals\n4.Â Â Â Â Â  Strat
 egies for Taking Control of Things that Derail Workplace Productivity\
 n5.Â Â Â Â Â  Session Summary and Follow-Up Class Details (Evaluation)
 \nCommunicating For Success\nÂ·Â Â Â Â Â Â Â Â  Verbal communication\n
 Â·Â Â Â Â Â Â Â Â  Non-Verbal Communication\nÂ·Â Â Â Â Â Â Â Â  Dimens
 ions of Non-Verbal Communication\noÂ Â  Kinesics\noÂ Â  Proxemics\noÂ 
 Â  Paralinguistic\noÂ Â  Touch\noÂ Â  Physical and environmental facto
 rs\nÂ·Â Â Â Â Â Â Â Â  Patient Communication\nÂ·Â Â Â Â Â Â Â Â  Evalu
 ating Non-Verbal Communication\n\nFor more information visit https://c
 ommunity.radrounds.com/events/tips-and-techniques-for-self-preservatio
 n-for-the-rt-live-webin-3
DTSTART:20170925T220000Z
DTEND:20170926T003000Z
CATEGORIES:live, webinar
LOCATION:Advanced Health Education Center
WEBSITE:https://store.aheconline.com/index.php?route=product/product&p
 ath=59&product_id=2981
URL:https://store.aheconline.com/index.php?route=product/product&path=
 59&product_id=2981
CONTACT:800-239-1361
ORGANIZER;CN="Larry Carney":https://community.radrounds.com/profile/La
 rryCarney
ATTACH;FMTTYPE="image/jpeg":
ATTENDEE;ROLE=REQ-PARTICIPANT;PARTSTAT=ACCEPTED;RSVP=TRUE;CN="Larry Ca
 rney":https://community.radrounds.com/profile/LarryCarney
END:VEVENT
END:VCALENDAR
