BEGIN:VCALENDAR
PRODID:NingEventWidget-v1
VERSION:2.0
METHOD:PUBLISH
BEGIN:VEVENT
UID:1791588:Event:183809
DTSTAMP:20260421T181535Z
SUMMARY:Tips and Techniques for Self-Preservation for the RT (Live Web
 inar)
DESCRIPTION:Course Topics:\n1. How to Keep Your Cool: Stress Managemen
 t\n2. The Gift of Time: Skills for Time Management\n3. Communicating f
 or Success\n\nFor more information visit https://community.radrounds.c
 om/events/tips-and-techniques-for-self-preservation-for-the-rt-live-we
 bi-10
DTSTART:20180917T220000Z
DTEND:20180918T010000Z
CATEGORIES:live, webinar
LOCATION:Advanced Health Education Center
WEBSITE:https://store.aheconline.com/
URL:https://store.aheconline.com/
CONTACT:800-239-1361
ORGANIZER;CN="Larry Carney":https://community.radrounds.com/profile/La
 rryCarney
ATTACH;FMTTYPE="image/jpeg":
ATTENDEE;ROLE=REQ-PARTICIPANT;PARTSTAT=ACCEPTED;RSVP=TRUE;CN="Larry Ca
 rney":https://community.radrounds.com/profile/LarryCarney
END:VEVENT
END:VCALENDAR
