BEGIN:VCALENDAR
PRODID:NingEventWidget-v1
VERSION:2.0
METHOD:PUBLISH
BEGIN:VEVENT
UID:1791588:Event:172649
DTSTAMP:20260422T215247Z
SUMMARY:The Wave of the Future: Ultrasound in Imaging (Live Event)
DESCRIPTION:Course description coming soon!\n\nFor more information vi
 sit https://community.radrounds.com/events/the-wave-of-the-future-ultr
 asound-in-imaging-live-event
DTSTART:20171007T120000Z
DTEND:20171007T183000Z
CATEGORIES:live, event
LOCATION:TBD
WEBSITE:https://store.aheconline.com/index.php?route=product/product&p
 ath=59&product_id=3135
URL:https://store.aheconline.com/index.php?route=product/product&path=
 59&product_id=3135
CONTACT:800-239-1361
ORGANIZER;CN="Larry Carney":https://community.radrounds.com/profile/La
 rryCarney
ATTACH;FMTTYPE="image/jpeg":
ATTENDEE;ROLE=REQ-PARTICIPANT;PARTSTAT=ACCEPTED;RSVP=TRUE;CN="Larry Ca
 rney":https://community.radrounds.com/profile/LarryCarney
END:VEVENT
END:VCALENDAR
