BEGIN:VCALENDAR
PRODID:NingEventWidget-v1
VERSION:2.0
METHOD:PUBLISH
BEGIN:VEVENT
UID:1791588:Event:123527
DTSTAMP:20260421T062447Z
SUMMARY:The Warm Fuzzy of Mammography
DESCRIPTION:Early Detection-that is our mission!.  What a splendid mi
 ssion it is!  This course was designed with you in mind.  You will l
 ove the topics that will keep you interested, involved and on that pat
 h of being the best you can be!  This is a class you do not want to m
 iss as you continue your promising and rewarding career as a mammograp
 her.  You will return to work with a rejuvenation of your dedication 
 to mammography and the mission we are on in the fight against breast c
 ancer! Register early and join the exciting 5 hour day of education an
 d fun!\n\nFor more information visit https://community.radrounds.com/e
 vents/the-warm-fuzzy-of-mammography
DTSTART:20120922T120000Z
DTEND:20120922T170000Z
CATEGORIES:ce, course
LOCATION:Covenant Lakeside MOB-Building 81
WEBSITE:http://store.aheconline.com/DisplayDetail.aspx?pid=7428
URL:http://store.aheconline.com/DisplayDetail.aspx?pid=7428
CONTACT:800-239-1361
ORGANIZER:Advanced Health Education Center
ATTACH;FMTTYPE="image/jpeg":
ATTENDEE;ROLE=REQ-PARTICIPANT;PARTSTAT=ACCEPTED;RSVP=TRUE;CN="Larry Ca
 rney":https://community.radrounds.com/profile/LarryCarney
END:VEVENT
END:VCALENDAR
