BEGIN:VCALENDAR
PRODID:NingEventWidget-v1
VERSION:2.0
METHOD:PUBLISH
BEGIN:VEVENT
UID:1791588:Event:162959
DTSTAMP:20260424T033545Z
SUMMARY:The USRA Skills Course
DESCRIPTION:The USRA Skills Course is an outgrowth of IAME’s twenty-
 three year experience as a provider of imaging- based training. Whethe
 r you are new to regional anesthesia, new to ultrasound guidance or ar
 e looking for a solid refresher, you can be assured of leaving The USR
 A Skills Course with practical knowledge and abilities that will benef
 it your practice for years to come.\nEducational Objectives After atte
 nding the course you will:\n\nUnderstand the principles of ultrasound 
 imaging\nDefine the common steps in performing an ultrasound-guided ne
 rve block\nUnderstand the basics of ultrasound- guided continuous peri
 neural catheters, including indications and proper technique\nIntegrat
 e ultrasound-guided nerve blocks into your clinical practice\nUndersta
 nd the important role of an ambulatory catheter program, including the
  risks and benefits, and the key steps involved in organization\nAchie
 ve improved patient outcomes through the successful adoption of region
 al anesthesia practice\n\nTarget Audience This educational activity is
  offered to anesthesiologists, pain management specialists and certifi
 ed registered nurse anesthetists(CRNA's).\nUGRA Portfolio The USRA Ski
 lls Course is qualified for inclusion in the UGRA Learning Portfolio.\
 nABA Reporting At the conclusion of the course your CME credits will b
 e transmitted directly to the American Board of Anesthesiology. (Your 
 ABA ID number is required)\n\nFor more information visit https://commu
 nity.radrounds.com/events/the-usra-skills-course-3
DTSTART:20160310T230000Z
DTEND:20160313T000000Z
CATEGORIES:cme, conference
LOCATION:San Juan Resort & Stellaris Casino
WEBSITE:https://iame.com/the-usra-skills-course-ra55.html
URL:https://iame.com/the-usra-skills-course-ra55.html
CONTACT:802 824 4433
ORGANIZER;CN="Richard Hom":https://community.radrounds.com/profile/Ric
 hardHom
ATTACH;FMTTYPE="image/jpeg":
ATTENDEE;ROLE=REQ-PARTICIPANT;PARTSTAT=ACCEPTED;RSVP=TRUE;CN="Richard 
 Hom":https://community.radrounds.com/profile/RichardHom
END:VEVENT
END:VCALENDAR
