BEGIN:VCALENDAR
PRODID:NingEventWidget-v1
VERSION:2.0
METHOD:PUBLISH
BEGIN:VEVENT
UID:1791588:Event:161553
DTSTAMP:20260420T200532Z
SUMMARY:The USRA Skills Course
DESCRIPTION:The USRA Skills Course is an outgrowth of IAME’s twenty-
 three year experience as a provider of imaging- based training. Whethe
 r you are new to regional anesthesia, new to ultrasound guidance or ar
 e looking for a solid refresher, you can be assured of leaving The USR
 A Skills Course with practical knowledge and abilities that will benef
 it your practice for years to come.\nHAVE YOU ALREADY TAKEN THIS (OR A
 NOTHER) COURSE? A growing number of our attendees have trained at The 
 USRA Skills Course (or elsewhere) and keep returning to augment their 
 skills, learn new blocks or just refresh their knowledge.\nTarget Audi
 ence This program is for you if you are an anesthesiologist, pain mana
 gement specialist or certified registered nurse anesthetist (CRNA).\nU
 GRA Portfolio The USRA Skills Course is qualified for inclusion in the
  UGRA Learning Portfolio.  Visit http://education.asahq.org/ugra for 
 more details.\nABA Reporting At the conclusion of the course your CME 
 credits will be transmitted directly to the American Board of Anesthes
 iology. (Your ABA ID number is required)\nEducational Objectives After
  attending the course you will:\n\nUnderstand the principles of ultras
 ound imaging\nDefine the common steps in performing an ultrasound-guid
 ed nerve block\nUnderstand the basics of ultrasound- guided continuous
  perineural catheters, including indications and proper technique\nInt
 egrate ultrasound-guided nerve blocks into your clinical practice\nUnd
 erstand the important role of an ambulatory catheter program, includin
 g the risks and benefits, and the key steps involved in organization\n
 Achieve improved patient outcomes through the successful adoption of r
 egional anesthesia practice\n\n\nFor more information visit https://co
 mmunity.radrounds.com/events/the-usra-skills-course-1
DTSTART:20151121T230000Z
DTEND:20151123T000000Z
CATEGORIES:cme, conference
LOCATION:Wyndham Grand Orlando Resort Bonnet Creek
WEBSITE:http://iame.com/the-usra-regional-anesthesia-skills-course-ra5
 2.html
URL:http://iame.com/the-usra-regional-anesthesia-skills-course-ra52.ht
 ml
CONTACT:802 824 4433
ORGANIZER;CN="Richard Hom":https://community.radrounds.com/profile/Ric
 hardHom
ATTACH;FMTTYPE="image/jpeg":
ATTENDEE;ROLE=REQ-PARTICIPANT;PARTSTAT=ACCEPTED;RSVP=TRUE;CN="Richard 
 Hom":https://community.radrounds.com/profile/RichardHom
END:VEVENT
END:VCALENDAR
