BEGIN:VCALENDAR
PRODID:NingEventWidget-v1
VERSION:2.0
METHOD:PUBLISH
BEGIN:VEVENT
UID:1791588:Event:168134
DTSTAMP:20260420T150355Z
SUMMARY:The Transformation of Radiology
DESCRIPTION:Course Topics\n\nSickle Cell Anemia: A Radiological Journe
 y\nPatient Care in Radiology: More than the Image\nPhotography in Radi
 ology: A Journey Through Images\nAbdomen/Chest: So Common, So Misunder
 stood (Part 1 & 2)\nRadiologic Technology: A Technical Movement\nProce
 dures Lost or Gone: Through Technology, We Are Moving O\n\n\nFor more 
 information visit https://community.radrounds.com/events/the-transform
 ation-of-radiology
DTSTART:20160910T120000Z
DTEND:20160910T201500Z
CATEGORIES:live, event
LOCATION:Kingwood
WEBSITE:https://store.aheconline.com/index.php?route=product/product&p
 ath=59&product_id=2577
URL:https://store.aheconline.com/index.php?route=product/product&path=
 59&product_id=2577
CONTACT:18002391361
ORGANIZER;CN="Larry Carney":https://community.radrounds.com/profile/La
 rryCarney
ATTACH;FMTTYPE="image/jpeg":
ATTENDEE;ROLE=REQ-PARTICIPANT;PARTSTAT=ACCEPTED;RSVP=TRUE;CN="Larry Ca
 rney":https://community.radrounds.com/profile/LarryCarney
END:VEVENT
END:VCALENDAR
