BEGIN:VCALENDAR
PRODID:NingEventWidget-v1
VERSION:2.0
METHOD:PUBLISH
BEGIN:VEVENT
UID:1791588:Event:172673
DTSTAMP:20260420T053412Z
SUMMARY:The Transformation of Radiology (Live Event)
DESCRIPTION:Course Topics\n\nSickle Cell Anemia: A Radiological Journe
 y\nPatient Care in Radiology: More than the Image\nPhotography in Radi
 ology: A Journey Through Images\nAbdomen/Chest: So Common, So Misunder
 stood (Part 1 & 2)\nRadiologic Technology: A Technical Movement\nProce
 dures Lost or Gone: Through Technology, We Are Moving On\n\n\nFor more
  information visit https://community.radrounds.com/events/the-transfor
 mation-of-radiology-live-event-4
DTSTART:20171202T130000Z
DTEND:20171202T211500Z
CATEGORIES:live, event
LOCATION:TBD
WEBSITE:https://store.aheconline.com/index.php?route=product/product&p
 ath=59&product_id=3131
URL:https://store.aheconline.com/index.php?route=product/product&path=
 59&product_id=3131
CONTACT:800-239-1361
ORGANIZER;CN="Larry Carney":https://community.radrounds.com/profile/La
 rryCarney
ATTACH;FMTTYPE="image/jpeg":
ATTENDEE;ROLE=REQ-PARTICIPANT;PARTSTAT=ACCEPTED;RSVP=TRUE;CN="Larry Ca
 rney":https://community.radrounds.com/profile/LarryCarney
END:VEVENT
END:VCALENDAR
