BEGIN:VCALENDAR
PRODID:NingEventWidget-v1
VERSION:2.0
METHOD:PUBLISH
BEGIN:VEVENT
UID:1791588:Event:168746
DTSTAMP:20260419T112517Z
SUMMARY:The Transformation of Radiology
DESCRIPTION:Course Description Coming Soon!\n\nFor more information vi
 sit https://community.radrounds.com/events/the-transformation-of-radio
 logy-3
DTSTART:20170311T130000Z
DTEND:20170311T211500Z
CATEGORIES:live, event
LOCATION:Victoria
WEBSITE:https://store.aheconline.com/index.php?route=product/product&p
 ath=59&product_id=2884
URL:https://store.aheconline.com/index.php?route=product/product&path=
 59&product_id=2884
CONTACT:1-800-239-1361
ORGANIZER;CN="Larry Carney":https://community.radrounds.com/profile/La
 rryCarney
ATTACH;FMTTYPE="image/jpeg":
ATTENDEE;ROLE=REQ-PARTICIPANT;PARTSTAT=ACCEPTED;RSVP=TRUE;CN="Larry Ca
 rney":https://community.radrounds.com/profile/LarryCarney
END:VEVENT
END:VCALENDAR
