BEGIN:VCALENDAR
PRODID:NingEventWidget-v1
VERSION:2.0
METHOD:PUBLISH
BEGIN:VEVENT
UID:1791588:Event:192072
DTSTAMP:20260421T050830Z
SUMMARY:The Technologist Toolbox (Live Webinar)
DESCRIPTION:Course Description:\nThis course is designed to help updat
 e you on several topics in one fast-paced day.  First we'll take a lo
 ok at where the state and country stands on two of the fastest changin
 g topics: Medical Marijuana and Opioids.  Then, we are going to talk 
 about \"you\" and cross-training with tips about your resume!  Find o
 ut what's new and what isn't with colon cancer and imaging.  We'll cl
 ose out the day talking about interesting pathologic conditions found 
 with images. We'd love to see you in class.\nCourse Topics:\n\nMedical
  Marijuana and Opioid Update\n\"You\" Cross-training and Your Resume\n
 Colon Cancer: The Slient Killer\nImaging Interesting Pathologic Condit
 ions\n\n\nFor more information visit https://community.radrounds.com/e
 vents/the-technologist-toolbox-live-webinar
DTSTART:20190817T130000Z
DTEND:20190817T210000Z
CATEGORIES:live, webinar
LOCATION:Advanced Health Education Center
WEBSITE:http://store.aheconline.com
URL:http://store.aheconline.com
CONTACT:1(800) 239-1361
ORGANIZER:AHEC
ATTACH;FMTTYPE="image/jpeg":
ATTENDEE;ROLE=REQ-PARTICIPANT;PARTSTAT=ACCEPTED;RSVP=TRUE;CN="Larry Ca
 rney":https://community.radrounds.com/profile/LarryCarney
END:VEVENT
END:VCALENDAR
