BEGIN:VCALENDAR
PRODID:NingEventWidget-v1
VERSION:2.0
METHOD:PUBLISH
BEGIN:VEVENT
UID:1791588:Event:196545
DTSTAMP:20260422T044116Z
SUMMARY:The Technologist's Toolbox (Live Webinar)
DESCRIPTION:Course Description:\nThis course is designed to help updat
 e you on several topics in one fast-paced day.  First we'll take a lo
 ok at where the state and country stands on two of the fastest changin
 g topics: Medical Marijuana and Opioids.  Then, we are going to talk 
 about \"you\" and cross-training with tips about your resume!  Find o
 ut what's new and what isn't with colon cancer imaging.  We'll close 
 out the day talking about interesting pathology and imaging. We'd love
  to see you in class.\nCourse Topics:\n\nMedical Marijuana and Opioid 
 Update\n\"You\" Cross-training and Your Resume\nColon Cancer: The Slie
 nt Killer\nImaging Interesting Pathologic Conditions\n\n\nFor more inf
 ormation visit https://community.radrounds.com/events/the-technologist
 -s-toolbox-live-webinar
DTSTART:20200314T130000Z
DTEND:20200314T203000Z
CATEGORIES:live, webinar
LOCATION:Advanced Health Education Center
WEBSITE:http://store.aheconline.com
URL:http://store.aheconline.com
CONTACT:1(800) 239-1361
ORGANIZER:AHEC
ATTACH;FMTTYPE="image/jpeg":
ATTENDEE;ROLE=REQ-PARTICIPANT;PARTSTAT=ACCEPTED;RSVP=TRUE;CN="Larry Ca
 rney":https://community.radrounds.com/profile/LarryCarney
END:VEVENT
END:VCALENDAR
