BEGIN:VCALENDAR
PRODID:NingEventWidget-v1
VERSION:2.0
METHOD:PUBLISH
BEGIN:VEVENT
UID:1791588:Event:157613
DTSTAMP:20260421T045036Z
SUMMARY:The Society for Imaging Informatics in Medicine (SIIM) IIP Boo
 tcamp
DESCRIPTION:The Imaging Informatics Professional (IIP) Bootcamp provid
 es participants with a strong foundation and overview of all facets of
  the profession and assists individuals who have interest in or plan t
 o take the ABII IIP certification exam. This bootcamp used in combinat
 ion with the recommended SIIM text, Practical Imaging Informatics, is 
 designed to be an immersion program of study to facilitate preparation
  for the ABII CIIP exam. It is structured to build on your strengths a
 nd provide the tools to overcome weaknesses in the broad range of IIP 
 skills and competencies.\n\nFor more information visit https://communi
 ty.radrounds.com/events/the-society-for-imaging-informatics-in-medicin
 e-siim-iip-bootcamp
DTSTART:20150527T040000Z
DTEND:20150528T035900Z
CATEGORIES:bootcamp
LOCATION:Gaylord National Resort & Convention Center
WEBSITE:https://siim.org/
URL:https://siim.org/
CONTACT:703-723-0432, ext. 313
ORGANIZER:Andrea Saris
ATTACH;FMTTYPE="image/jpeg":http://storage.ning.com/topology/rest/1.0/
 file/get/1044762449?profile=original
ATTENDEE;ROLE=REQ-PARTICIPANT;PARTSTAT=ACCEPTED;RSVP=TRUE;CN="Bernadet
 te Wladyka":https://community.radrounds.com/profile/BernadetteWladyka
END:VEVENT
END:VCALENDAR
