BEGIN:VCALENDAR
PRODID:NingEventWidget-v1
VERSION:2.0
METHOD:PUBLISH
BEGIN:VEVENT
UID:1791588:Event:160397
DTSTAMP:20260421T015052Z
SUMMARY:The Society for Imaging Informatics in Medicine (SIIM) 2016 An
 nual Meeting
DESCRIPTION:The SIIM Annual Meeting is changing healthcare IT through 
 informatics by bridging medical imaging with the enterprise–presenti
 ng the education, research, and innovative practices that are dramatic
 ally improving patient care and decreasing healthcare costs. At the SI
 IM Annual Meeting health imaging IT professionals (including, but not 
 limited to PACS, RIS & Enterprise-wide administrators), scientists, re
 searchers, physicians, physicists, healthcare IT decision drivers, and
  vendors from around the world come together to explore the dynamic fi
 eld of imaging informatics.\n\n\nFor more information visit https://co
 mmunity.radrounds.com/events/the-society-for-imaging-informatics-in-me
 dicine-siim-2016-annual
DTSTART:20160629T040000Z
DTEND:20160702T035900Z
CATEGORIES:annual, meeting
LOCATION:Oregon Convention Center
WEBSITE:
URL:
CONTACT:http://oregoncc.org/
ORGANIZER:The Society for Imaging Informatics in Medicine (SIIM)
ATTACH;FMTTYPE="image/jpeg":http://storage.ning.com/topology/rest/1.0/
 file/get/1044763875?profile=original
ATTENDEE;ROLE=REQ-PARTICIPANT;PARTSTAT=ACCEPTED;RSVP=TRUE;CN="Bernadet
 te Wladyka":https://community.radrounds.com/profile/BernadetteWladyka
END:VEVENT
END:VCALENDAR
