BEGIN:VCALENDAR
PRODID:NingEventWidget-v1
VERSION:2.0
METHOD:PUBLISH
BEGIN:VEVENT
UID:1791588:Event:158600
DTSTAMP:20260421T125331Z
SUMMARY:The Musculoskeletal Ultrasound Skills Course
DESCRIPTION:Musculoskeletal ultrasound imaging has evolved into a powe
 rful tool that requires a high degree of skill to navigate sonoanatomy
  using the latest instrumentation. This 1.5 day course will cover the 
 basic techniques and applications of diagnostic and interventional spo
 rts/musculoskeletal ultrasound in the major joints of the body related
  to sports medicine injuries.\nEducational Objectives\nAfter attending
  The MSK Ultrasound Skills Course participants will:\n\nPerform scans 
 of peripheral joints\nRecognize common musculoskeletal pathology\nPerf
 orm therapeutic injections under ultrasound guidance\nImprove patient 
 outcomes by appropriately applying the use of musculoskeletal ultrasou
 nd into their practice\n\nThe primary audience is:\n\nSports Medicine 
 Physicians\nSonographers\nRadiologists\nOrthopedic Surgeons\nCertified
  Athletic Trainers\nRheumatologists\n\nThe Institute for Advanced Medi
 cal Education designates The Musculoskeletal UltrasoundSkills Course f
 or a maximum of 12 AMA PRA Category 1 Credits™. Physicians should on
 ly claim credit commensurate with the extent of their participation in
  the activity.\n \n\nFor more information visit https://community.rad
 rounds.com/events/the-musculoskeletal-ultrasound-skills-course
DTSTART:20150305T120000Z
DTEND:20150307T220000Z
CATEGORIES:cme, conference
LOCATION:Vail Marriott Mountain Resort
WEBSITE:http://www.marriott.com/hotels/travel/whrco-vail-marriott-moun
 tain-resort/
URL:http://www.marriott.com/hotels/travel/whrco-vail-marriott-mountain
 -resort/
CONTACT:802 824 4433
ORGANIZER:Institute for Advanced Medical Education
ATTACH;FMTTYPE="image/jpeg":
ATTENDEE;ROLE=REQ-PARTICIPANT;PARTSTAT=ACCEPTED;RSVP=TRUE;CN="Richard 
 Hom":https://community.radrounds.com/profile/RichardHom
END:VEVENT
END:VCALENDAR
