BEGIN:VCALENDAR
PRODID:NingEventWidget-v1
VERSION:2.0
METHOD:PUBLISH
BEGIN:VEVENT
UID:1791588:Event:163040
DTSTAMP:20260424T045844Z
SUMMARY:The MSK Ultrasound Skills Course
DESCRIPTION:Musculoskeletal ultrasound imaging has evolved into a powe
 rful tool that requires a high degree of skill to navigate sonoanatomy
  using the latest instrumentation. This 3 day course, held morning onl
 y, will cover the basic techniques and applications of diagnostic and 
 interventional sports/musculoskeletal ultrasound in the major joints o
 f the body related to sports medicine injuries.\nEducational Objective
 s\nAfter attending The MSK Ultrasound Skills Course participants will:
 \n\nPerform scans of peripheral joints\nRecognize common musculoskelet
 al pathology\nPerform therapeutic injections under ultrasound guidance
 \nImprove patient outcomes by appropriately applying the use of muscul
 oskeletal ultrasound into their practice\n\nThe primary audience is:\n
 \nSports Medicine Physicians\nSonographers\nRadiologists\nOrthopedic S
 urgeons\nCertified Athletic Trainers\nRheumatologists\n\n\nFor more in
 formation visit https://community.radrounds.com/events/the-msk-ultraso
 und-skills-course-3
DTSTART:20160311T230000Z
DTEND:20160313T230000Z
CATEGORIES:cme, conference
LOCATION:San Juan Resort & Stellaris Casino
WEBSITE:https://iame.com/the-musculoskeletal-msk-ultrasound-skills-cou
 rse-mu14.html
URL:https://iame.com/the-musculoskeletal-msk-ultrasound-skills-course-
 mu14.html
CONTACT:802 824 4433
ORGANIZER;CN="Richard Hom":https://community.radrounds.com/profile/Ric
 hardHom
ATTACH;FMTTYPE="image/jpeg":
ATTENDEE;ROLE=REQ-PARTICIPANT;PARTSTAT=ACCEPTED;RSVP=TRUE;CN="Richard 
 Hom":https://community.radrounds.com/profile/RichardHom
END:VEVENT
END:VCALENDAR
