BEGIN:VCALENDAR
PRODID:NingEventWidget-v1
VERSION:2.0
METHOD:PUBLISH
BEGIN:VEVENT
UID:1791588:Event:162961
DTSTAMP:20260423T232004Z
SUMMARY:The MSK Ultrasound Skills course
DESCRIPTION:Musculoskeletal ultrasound imaging has evolved into a powe
 rful tool that requires a high degree of skill to navigate sonoanatomy
  using the latest instrumentation. This 1.5 day course will cover the 
 basic techniques and applications of diagnostic and interventional spo
 rts/musculoskeletal ultrasound in the major joints of the body related
  to sports medicine injuries.\nEducational Objectives\nAfter attending
  The MSK Ultrasound Skills Course participants will:\n\nPerform scans 
 of peripheral joints\nRecognize common musculoskeletal pathology\nPerf
 orm therapeutic injections under ultrasound guidance\nImprove patient 
 outcomes by appropriately applying the use of musculoskeletal ultrasou
 nd into their practice\n\nThe primary audience is:\n\nSports Medicine 
 Physicians\nSonographers\nRadiologists\nOrthopedic Surgeons\nCertified
  Athletic Trainers\nRheumatologists\n\n\nFor more information visit ht
 tps://community.radrounds.com/events/the-msk-ultrasound-skills-course-
 2
DTSTART:20160225T230000Z
DTEND:20160228T000000Z
CATEGORIES:cme, conference
LOCATION:Hyatt Escala Lodge at Park City
WEBSITE:https://iame.com/the-musculoskeletal-msk-ultrasound-skills-cou
 rse-mu13.html
URL:https://iame.com/the-musculoskeletal-msk-ultrasound-skills-course-
 mu13.html
CONTACT:802 824 4433
ORGANIZER;CN="Richard Hom":https://community.radrounds.com/profile/Ric
 hardHom
ATTACH;FMTTYPE="image/jpeg":
ATTENDEE;ROLE=REQ-PARTICIPANT;PARTSTAT=ACCEPTED;RSVP=TRUE;CN="Richard 
 Hom":https://community.radrounds.com/profile/RichardHom
END:VEVENT
END:VCALENDAR
