BEGIN:VCALENDAR
PRODID:NingEventWidget-v1
VERSION:2.0
METHOD:PUBLISH
BEGIN:VEVENT
UID:1791588:Event:161555
DTSTAMP:20260421T124446Z
SUMMARY:The MSK Ultrasound Skills Course
DESCRIPTION:Musculoskeletal ultrasound imaging has evolved into a powe
 rful tool that requires a high degree of skill to navigate sonoanatomy
  using the latest instrumentation. This 1.5 day course will cover the 
 basic techniques and applications of sports/musculoskeletal ultrasound
  in the major joints of the body related to sports medicine injuries.Â
   Each participant will receive personalized hands-on instruction on h
 uman subjects and animal parts.\nThis course is for you if you are a:\
 n\nSports Medicine Physician\nSonographer\nRadiologist\nPain Managemen
 t Physician\nOrthopedic Surgeon\nCertified Athletic Trainer\nRheumatol
 ogist\n\nEducational Objectives\nAfter attending The MSK Ultrasound Sk
 ills Course participants will be able to:\n1. Perform scans of periphe
 ral joints\n2. Recognize common musculoskeletal pathology\n3. Describe
  how to perform ultrasound-guided procedures in the upper and lower ex
 tremities\n4. Improve patient outcomes by appropriately applying the u
 se of musculoskeletal ultrasound into their practice\n\nFor more infor
 mation visit https://community.radrounds.com/events/the-msk-ultrasound
 -skills-course-1
DTSTART:20151211T230000Z
DTEND:20151213T000000Z
CATEGORIES:cme, conference
LOCATION:Westin Chicago River North
WEBSITE:http://iame.com/the-musculoskeletal-msk-ultrasound-skills-cour
 se-mu12.html
URL:http://iame.com/the-musculoskeletal-msk-ultrasound-skills-course-m
 u12.html
CONTACT:802 824 4433
ORGANIZER;CN="Richard Hom":https://community.radrounds.com/profile/Ric
 hardHom
ATTACH;FMTTYPE="image/jpeg":
ATTENDEE;ROLE=REQ-PARTICIPANT;PARTSTAT=ACCEPTED;RSVP=TRUE;CN="Richard 
 Hom":https://community.radrounds.com/profile/RichardHom
END:VEVENT
END:VCALENDAR
