BEGIN:VCALENDAR
PRODID:NingEventWidget-v1
VERSION:2.0
METHOD:PUBLISH
BEGIN:VEVENT
UID:1791588:Event:161263
DTSTAMP:20260422T164207Z
SUMMARY:The Interventional MSK Ultrasound Skills Course
DESCRIPTION:Musculoskeletal ultrasound imaging has evolved into a powe
 rful tool that requires a high degree of skill to navigate sonoanatomy
  using the latest instrumentation. This 1.5 day course will cover the 
 basic techniques and applications of diagnostic and interventional spo
 rts/musculoskeletal ultrasound in the major joints of the body related
  to sports medicine injuries.  Each participant will receive personal
 ized hands-on instruction on human and cadaveric subjects.THE COURSE W
 ILL BE HELD AT THE BIOSKILLS FACILITY OF THE UNIVERSITY OF CENTRAL FLO
 RIDA, IN LAKE NONA.  NEARBY HOTEL ACCOMMODATIONS WILL BE SECURED AND 
 TRANSPORTATION WILL BE PROVIDED BETWEEN THE HOTEL AND THE COURSE FACIL
 ITY.\n\nFor more information visit https://community.radrounds.com/eve
 nts/the-interventional-msk-ultrasound-skills-course
DTSTART:20151024T220000Z
DTEND:20151025T230000Z
CATEGORIES:cme, conference
LOCATION:University of Central Florida College Of Medicine
WEBSITE:http://iame.com/the-interventional-msk-musculoskeletal-ultraso
 und-skills-course-mu10.html
URL:http://iame.com/the-interventional-msk-musculoskeletal-ultrasound-
 skills-course-mu10.html
CONTACT:802 824 4433
ORGANIZER;CN="Richard Hom":https://community.radrounds.com/profile/Ric
 hardHom
ATTACH;FMTTYPE="image/jpeg":
ATTENDEE;ROLE=REQ-PARTICIPANT;PARTSTAT=ACCEPTED;RSVP=TRUE;CN="Richard 
 Hom":https://community.radrounds.com/profile/RichardHom
END:VEVENT
END:VCALENDAR
