BEGIN:VCALENDAR
PRODID:NingEventWidget-v1
VERSION:2.0
METHOD:PUBLISH
BEGIN:VEVENT
UID:1791588:Event:172288
DTSTAMP:20260420T051258Z
SUMMARY:The Impact of Drugs in Imaging (Live Webinar)
DESCRIPTION:Course Topics\n\nMedical Conditions and Administration\nTh
 e Drug, The Plant, The Industry, and The Activist\nFederal Crackdown a
 nd Recreational Use Legalized\nRadiology’s Response\nPellets, Packin
 g, and Risks\nScreenings\nCase Studies\n\n\nFor more information visit
  https://community.radrounds.com/events/the-impact-of-drugs-in-imaging
 -live-webinar
DTSTART:20170629T220000Z
DTEND:20170629T234500Z
CATEGORIES:live, webinar
LOCATION:Advanced Health Education Center
WEBSITE:https://store.aheconline.com/index.php?route=product/product&p
 ath=59_167&product_id=3040
URL:https://store.aheconline.com/index.php?route=product/product&path=
 59_167&product_id=3040
CONTACT:800-239-1361
ORGANIZER;CN="Larry Carney":https://community.radrounds.com/profile/La
 rryCarney
ATTACH;FMTTYPE="image/jpeg":
ATTENDEE;ROLE=REQ-PARTICIPANT;PARTSTAT=ACCEPTED;RSVP=TRUE;CN="Larry Ca
 rney":https://community.radrounds.com/profile/LarryCarney
END:VEVENT
END:VCALENDAR
