BEGIN:VCALENDAR
PRODID:NingEventWidget-v1
VERSION:2.0
METHOD:PUBLISH
BEGIN:VEVENT
UID:1791588:Event:167913
DTSTAMP:20260420T150752Z
SUMMARY:The Impact of Drugs in Imaging [6:30pm CST]
DESCRIPTION:Course Topics\n\nMedical Conditions and Administration\nTh
 e Drug, The Plant, The Industry, and The Activist\nFederal Crackdown a
 nd Recreational Use Legalized\nRadiology’s Response\nPellets, Packin
 g, and Risks\nScreenings\nCase Studies\n\nStart Time Based on Time Zon
 e:\n\n7:30PM Eastern\n6:30PM Central\n5:30PM Mountain\n4:30PM Pacific\
 n3:30PM Alaska\n2:30PM Hawaii\n\n\nFor more information visit https://
 community.radrounds.com/events/the-impact-of-drugs-in-imaging-6-30pm-c
 st
DTSTART:20160714T223000Z
DTEND:20160715T001500Z
CATEGORIES:webinar
LOCATION:Houston
WEBSITE:https://store.aheconline.com/index.php?route=product/product&p
 ath=59_167_191&product_id=2499
URL:https://store.aheconline.com/index.php?route=product/product&path=
 59_167_191&product_id=2499
CONTACT:18002391361
ORGANIZER;CN="Larry Carney":https://community.radrounds.com/profile/La
 rryCarney
ATTACH;FMTTYPE="image/jpeg":
ATTENDEE;ROLE=REQ-PARTICIPANT;PARTSTAT=ACCEPTED;RSVP=TRUE;CN="Larry Ca
 rney":https://community.radrounds.com/profile/LarryCarney
END:VEVENT
END:VCALENDAR
