BEGIN:VCALENDAR
PRODID:NingEventWidget-v1
VERSION:2.0
METHOD:PUBLISH
BEGIN:VEVENT
UID:1791588:Event:172548
DTSTAMP:20260421T193213Z
SUMMARY:The Gift of Time: Skills for Time Management (Live Webinar)
DESCRIPTION:Time is money, the saying goes, and lots of it gets lost i
 n disorganization and disruption. We also deal with a constant barrage
  of technology, people, and tasks that can contribute to that disorgan
 ization. Many people find that they flit from one task to another, try
 ing to get everything done.\n\nFor more information visit https://comm
 unity.radrounds.com/events/the-gift-of-time-skills-for-time-management
 -live-webinar
DTSTART:20170803T220000Z
DTEND:20170803T230000Z
CATEGORIES:live, webinar
LOCATION:Advanced Health Education Center
WEBSITE:https://store.aheconline.com/index.php?route=product/product&p
 ath=59_167&product_id=3046
URL:https://store.aheconline.com/index.php?route=product/product&path=
 59_167&product_id=3046
CONTACT:800-239-1361
ORGANIZER;CN="Larry Carney":https://community.radrounds.com/profile/La
 rryCarney
ATTACH;FMTTYPE="image/jpeg":
ATTENDEE;ROLE=REQ-PARTICIPANT;PARTSTAT=ACCEPTED;RSVP=TRUE;CN="Larry Ca
 rney":https://community.radrounds.com/profile/LarryCarney
END:VEVENT
END:VCALENDAR
