BEGIN:VCALENDAR
PRODID:NingEventWidget-v1
VERSION:2.0
METHOD:PUBLISH
BEGIN:VEVENT
UID:1791588:Event:172095
DTSTAMP:20260421T110933Z
SUMMARY:The Fundamentals of Mammographic Positioning (Live Webinar)
DESCRIPTION:Course Topics\n\nPatient Communication\nPatient Care\nBrea
 st Anatomy/Physiology\nCompression\nPositioning/Evaluation Criteria\n\
 n\nFor more information visit https://community.radrounds.com/events/t
 he-fundamentals-of-mammographic-positioning-live-webinar
DTSTART:20170525T220000Z
DTEND:20170525T234500Z
CATEGORIES:live, webinar
LOCATION:Advanced Health Education Center
WEBSITE:https://store.aheconline.com/index.php?route=product/product&p
 ath=59_167&product_id=3036
URL:https://store.aheconline.com/index.php?route=product/product&path=
 59_167&product_id=3036
CONTACT:800-239-1361
ORGANIZER;CN="Larry Carney":https://community.radrounds.com/profile/La
 rryCarney
ATTACH;FMTTYPE="image/jpeg":
ATTENDEE;ROLE=REQ-PARTICIPANT;PARTSTAT=ACCEPTED;RSVP=TRUE;CN="Larry Ca
 rney":https://community.radrounds.com/profile/LarryCarney
END:VEVENT
END:VCALENDAR
