BEGIN:VCALENDAR
PRODID:NingEventWidget-v1
VERSION:2.0
METHOD:PUBLISH
BEGIN:VEVENT
UID:1791588:Event:164620
DTSTAMP:20260421T154640Z
SUMMARY:The Focused Echocardiography Course
DESCRIPTION:The Focused Echocardiography Course is designed to provide
  point of care professionals a strong foundation to perform and/or int
 erpret cardiac ultrasound examinations in an emergency setting. The pr
 ogram is taught by leading echocardiography experts, and includes lect
 ures, interactive case studies using an audio response system (ARS), a
 nd extensive hands on scanning featuring a 3:1 hands-on ratio using li
 ve models.\n\nFor more information visit https://community.radrounds.c
 om/events/the-focused-echocardiography-course-1
DTSTART:20161205T050000Z
DTEND:20161208T045900Z
CATEGORIES:ultrasound, cme, seminar
LOCATION:Gulfcoast Ultrasound Institute, Inc.
WEBSITE:https://www.gcus.com/courses/about.asp?course=956/Focused-Poin
 t-of-Care-Echocardiography-
URL:https://www.gcus.com/courses/about.asp?course=956/Focused-Point-of
 -Care-Echocardiography-
CONTACT:800-619-1900
ORGANIZER;CN="Casey Green":https://community.radrounds.com/profile/Jam
 esSalame
ATTACH;FMTTYPE="image/jpeg":
ATTENDEE;ROLE=REQ-PARTICIPANT;PARTSTAT=ACCEPTED;RSVP=TRUE;CN="Casey Gr
 een":https://community.radrounds.com/profile/JamesSalame
END:VEVENT
END:VCALENDAR
