BEGIN:VCALENDAR
PRODID:NingEventWidget-v1
VERSION:2.0
METHOD:PUBLISH
BEGIN:VEVENT
UID:1791588:Event:185150
DTSTAMP:20260421T124002Z
SUMMARY:The Extraordinary Mammographer (Live Event)
DESCRIPTION:This new eight hour mammography course is designed to help
  mammographers understand current progress and technologies in the fig
 ht to find and treat breast cancerl  You will learn from a very exper
 ienced mammographer how to correct the most noted positioning mistakes
  identified by ACR.  As a mammographer, you will appreciate the candi
 d discussion on the mammography screeing contraversy and where we stan
 d today.\nCourse Topics:\n\nWhy use DBT (Tomo/3 D)\nWhat is ALCL and D
 o Implants Promote It?\nAdvanced Breast Cancers and Treatment Options\
 nPost Surgical and Treatment of Breast Cancers\nACR Common Mistakes an
 d Fixes\nHow to Wow Your Patients to Get Better Images!\n\n\nFor more 
 information visit https://community.radrounds.com/events/the-extraordi
 nary-mammographer-live-event
DTSTART:20190713T120000Z
DTEND:20190713T200000Z
CATEGORIES:live, event
LOCATION:JPS Health Network (John Peter Smith Hospital)
WEBSITE:http://store.aheconline.com
URL:http://store.aheconline.com
CONTACT:800-239-1361
ORGANIZER;CN="Larry Carney":https://community.radrounds.com/profile/La
 rryCarney
ATTACH;FMTTYPE="image/jpeg":
ATTENDEE;ROLE=REQ-PARTICIPANT;PARTSTAT=ACCEPTED;RSVP=TRUE;CN="Larry Ca
 rney":https://community.radrounds.com/profile/LarryCarney
END:VEVENT
END:VCALENDAR
