BEGIN:VCALENDAR
PRODID:NingEventWidget-v1
VERSION:2.0
METHOD:PUBLISH
BEGIN:VEVENT
UID:1791588:Event:168042
DTSTAMP:20260420T033844Z
SUMMARY:The Champion Radiographer
DESCRIPTION:Course Topics\n\nThe Radiographer's Nation\nEthical Dilemm
 as\nGeriatrics and Imaging\nRadLand: The Game of Your Life\n\n\nFor mo
 re information visit https://community.radrounds.com/events/the-champi
 on-radiographer
DTSTART:20160917T120000Z
DTEND:20160917T201500Z
CATEGORIES:live, event
LOCATION:Tyler
WEBSITE:https://store.aheconline.com/index.php?route=product/product&p
 ath=59&product_id=2309
URL:https://store.aheconline.com/index.php?route=product/product&path=
 59&product_id=2309
CONTACT:18002391361
ORGANIZER;CN="Larry Carney":https://community.radrounds.com/profile/La
 rryCarney
ATTACH;FMTTYPE="image/jpeg":
ATTENDEE;ROLE=REQ-PARTICIPANT;PARTSTAT=ACCEPTED;RSVP=TRUE;CN="Larry Ca
 rney":https://community.radrounds.com/profile/LarryCarney
END:VEVENT
END:VCALENDAR
