BEGIN:VCALENDAR
PRODID:NingEventWidget-v1
VERSION:2.0
METHOD:PUBLISH
BEGIN:VEVENT
UID:1791588:Event:177620
DTSTAMP:20260421T193004Z
SUMMARY:The Building Blocks of Radiology (Live Event)
DESCRIPTION:This new class was designed to meet customer requests for 
 more basic radiography courses.  You will enjoy this multi-topic clas
 s full of beneficial tips that affect your daily job duties.  We know
  your career as a radiographer keeps getting more challenging by the y
 ear. You are dealing with a rapidly increasing number of obese patient
 s, along with an increase in elderly patients. The helpful tips you wi
 ll learn in this class will may make your job a whole lot easier and a
  lot more fun. \n\nFor more information visit https://community.radro
 unds.com/events/the-building-blocks-of-radiology-live-event-2
DTSTART:20180210T130000Z
DTEND:20180210T211500Z
CATEGORIES:live, event
LOCATION:JPS Health Network (John Peter Smith Hospital)
WEBSITE:https://store.aheconline.com/index.php?route=product/product&a
 mp;amp;path=59&amp;amp;product_id=3548
URL:https://store.aheconline.com/index.php?route=product/product&amp;a
 mp;path=59&amp;amp;product_id=3548
CONTACT:800-239-1361
ORGANIZER;CN="Larry Carney":https://community.radrounds.com/profile/La
 rryCarney
ATTACH;FMTTYPE="image/jpeg":
ATTENDEE;ROLE=REQ-PARTICIPANT;PARTSTAT=ACCEPTED;RSVP=TRUE;CN="Larry Ca
 rney":https://community.radrounds.com/profile/LarryCarney
END:VEVENT
END:VCALENDAR
