BEGIN:VCALENDAR
PRODID:NingEventWidget-v1
VERSION:2.0
METHOD:PUBLISH
BEGIN:VEVENT
UID:1791588:Event:172334
DTSTAMP:20260421T193032Z
SUMMARY:The Building Blocks of Radiology (Live Event)
DESCRIPTION:This new class was designed to meet customer requests for 
 more basic radiography courses.  You will enjoy this multi-topic clas
 s full of beneficial tips that affect your daily job duties.  We know
  your career as a radiographer keeps getting more challenging by the y
 ear. You are dealing with a rapidly increasing number of obese patient
 s, along with an increase in elderly patients. The helpful tips you wi
 ll learn in this class will may make your job a whole lot easier and a
  lot more fun.\n\nFor more information visit https://community.radroun
 ds.com/events/the-building-blocks-of-radiology-live-event-1
DTSTART:20170520T120000Z
DTEND:20170520T201500Z
CATEGORIES:live, event
LOCATION:Hillcrest Baptist Medical Center
WEBSITE:https://store.aheconline.com/index.php?route=product/product&p
 ath=59&product_id=3116
URL:https://store.aheconline.com/index.php?route=product/product&path=
 59&product_id=3116
CONTACT:800-239-1361
ORGANIZER;CN="Larry Carney":https://community.radrounds.com/profile/La
 rryCarney
ATTACH;FMTTYPE="image/jpeg":
ATTENDEE;ROLE=REQ-PARTICIPANT;PARTSTAT=ACCEPTED;RSVP=TRUE;CN="Larry Ca
 rney":https://community.radrounds.com/profile/LarryCarney
END:VEVENT
END:VCALENDAR
