BEGIN:VCALENDAR
PRODID:NingEventWidget-v1
VERSION:2.0
METHOD:PUBLISH
BEGIN:VEVENT
UID:1791588:Event:167831
DTSTAMP:20260420T132744Z
SUMMARY:The Black Belt Mammographer
DESCRIPTION:This continuing education course is designed for the mammo
 grapher wishing to expand their knowledge on multiple topics (nine, to
  be exact) in one fast paced eight hour day. You will love Sandy’s w
 ealth of experience as she uses case studies, and discusses current me
 thodology and technology to enhance your learning experience. Register
  early to reserve your space in this course full of “unusual” and 
 “rare” mammographic challenges that will leave you feeling like a 
 black-belt mammographer!\n\nTroubleshooting Common Positioning Errors\
 nMen Get Breast Cancer Too\nUnusual FIndings in the Breast\nMammograph
 y: Complimentary and New Modalities\nLegal Issues in Mammography\nMali
 gnant Pathology\nMobile Mammography Challenges\n\n\nFor more informati
 on visit https://community.radrounds.com/events/the-black-belt-mammogr
 apher-3
DTSTART:20160910T121500Z
DTEND:20160910T201500Z
CATEGORIES:live, event
LOCATION:Little Rock
WEBSITE:https://store.aheconline.com/index.php?route=product/product&p
 ath=59&product_id=2588
URL:https://store.aheconline.com/index.php?route=product/product&path=
 59&product_id=2588
CONTACT:18002391361
ORGANIZER;CN="Larry Carney":https://community.radrounds.com/profile/La
 rryCarney
ATTACH;FMTTYPE="image/jpeg":
ATTENDEE;ROLE=REQ-PARTICIPANT;PARTSTAT=ACCEPTED;RSVP=TRUE;CN="Larry Ca
 rney":https://community.radrounds.com/profile/LarryCarney
END:VEVENT
END:VCALENDAR
