BEGIN:VCALENDAR
PRODID:NingEventWidget-v1
VERSION:2.0
METHOD:PUBLISH
BEGIN:VEVENT
UID:1791588:Event:172136
DTSTAMP:20260419T133045Z
SUMMARY:The Best of the Big Apple 2017:  OB-GYN Ultrasound
DESCRIPTION:Register online at:\nhttp://www.worldclasscme.com/conferen
 ces/best-big-apple-ob-gyn-ultrasound2/\n\nThis three-day conference pr
 ovides up-to-date ob/gyn ultrasound information to healthcare provider
 s who require advanced ultrasound skills to manage complicated cases.\
 n \nThis course is designed for physicians and sonographers in the fi
 elds of gynecologic and obstetric imaging, as well as residents in obs
 tetrics and gynecology, or radiology, and fellows in maternal-fetal me
 dicine. This course may also be valuable to family physicians practici
 ng obstetrics, advanced practice nurses​ and physician assistants 
 working in gynecology and obstetrics.\n\nPricing  Physician: $995.00 
  Physician Assistant: $895.00  Sonographer: $795.00  Retired: $895.00 
  Military: $895.00\n\n19.0 AMA PRA Category 1 Credits™ 19.0 Cognate
  Hours\nASRT Approved for Category A CE Credit for Sonographers and Te
 chnologists\n\nFor more information visit https://community.radrounds.
 com/events/the-best-of-the-big-apple-2017-ob-gyn-ultrasound
DTSTART:20171117T050000Z
DTEND:20171120T045900Z
CATEGORIES:radiology, ob-gyn, "ob/gyn", obstetrics, gynecology, ultras
 ound, sonography, cme, "women's", imaging, diagnostic, maternal, fetal
 , conference, live, event
LOCATION:Grand Hyatt New York
WEBSITE:https://newyork.grand.hyatt.com/en/hotel/home.html
URL:https://newyork.grand.hyatt.com/en/hotel/home.html
CONTACT:888-421-1442
ORGANIZER:World Class CME
ATTACH;FMTTYPE="image/jpeg":http://storage.ning.com/topology/rest/1.0/
 file/get/1044768722?profile=original
ATTENDEE;ROLE=REQ-PARTICIPANT;PARTSTAT=ACCEPTED;RSVP=TRUE;CN="JoAnn Co
 oke":https://community.radrounds.com/profile/JoAnnCooke
END:VEVENT
END:VCALENDAR
