BEGIN:VCALENDAR
PRODID:NingEventWidget-v1
VERSION:2.0
METHOD:PUBLISH
BEGIN:VEVENT
UID:1791588:Event:116524
DTSTAMP:20260422T210433Z
SUMMARY:The Art and Science of Digital Imaging
DESCRIPTION:The Art and Science of Digital Imaging Saturday, May 19, 2
 012 - Saturday, May 19, 2012Holiday Inn Select Airport San Antonio, Te
 xas (TX), United StatesProvided by Advanced Health Education Center  C
 ME Provider: Advanced Health Education Center 8502 Tybor DriveHouston,
  Texas (TX) 77074United States\nToll Free: (800) 239-1361Phone: (713) 
 772-0157Fax: (713) 772-0155\n\nConference Center:Holiday Inn Select Ai
 rport 77 NE Loop 410San Antonio, Texas (TX) 78216United States\nPhone:
  (210) 349-9900Fax: (210) 349-4660\n Description:The use of film-scree
 n imaging has gone from the overwhelming choice for hospitals and medi
 cal facilities in 1990’s in the United Sates to less than 4% utiliza
 tion by these same facilities as of 2011. Training for the transition 
 from film-screen radiography to digital imaging was often “on the jo
 b” as opposed to formal training.\n\nThis presentation provides the 
 working radiographer information which debunks the myths of digital an
 d provides a platform of information to expand imaging skills, be more
  efficient, and optimize their imaging techniques.\nCourse Topics • 
 Dispelling the “myths” of digital imaging• Creating a digital im
 age• Your CR and DR• Optimizing Technique Selections• Factors Af
 fecting Image Quality • Image Monitors and Ergonomics Matter\nSelf A
 ssessment Module (SAM): No\nInstructors:Andre Guillory, BSRS, RT(R)\nS
 pecialty Audience:Radiology\n\nFor more information visit https://comm
 unity.radrounds.com/events/the-art-and-science-of-digital-imaging-7
DTSTART:20120519T040000Z
DTEND:20120520T035900Z
CATEGORIES:radiology
LOCATION:Holiday Inn Select Airport
WEBSITE:http://www.holidayinn.com/hotels/us/en/san-antonio/satap/hotel
 detail
URL:http://www.holidayinn.com/hotels/us/en/san-antonio/satap/hoteldeta
 il
CONTACT:(210) 349-9900
ORGANIZER:Advanced Health Education Center
ATTACH;FMTTYPE="image/jpeg":
ATTENDEE;ROLE=REQ-PARTICIPANT;PARTSTAT=ACCEPTED;RSVP=TRUE;CN="radRound
 s Radiology Events":https://community.radrounds.com/profile/radRoundsR
 adiologyEvents
END:VEVENT
END:VCALENDAR
