BEGIN:VCALENDAR
PRODID:NingEventWidget-v1
VERSION:2.0
METHOD:PUBLISH
BEGIN:VEVENT
UID:1791588:Event:116235
DTSTAMP:20260423T064321Z
SUMMARY:The Art and Science of Digital Imaging
DESCRIPTION:The Art and Science of Digital Imaging Saturday, April 28,
  2012 - Saturday, April 28, 2012Embassy Suites Corpus Christi Corpus C
 hristi, Texas (TX), United StatesProvided by Advanced Health Education
  Center  CME Provider: Advanced Health Education Center 8502 Tybor Dri
 veHouston, Texas (TX) 77074United States\nToll Free: (800) 239-1361Pho
 ne: (713) 772-0157Fax: (713) 772-0155\n\nConference Center:Embassy Sui
 tes Corpus Christi 4337 South Padre Island DriveCorpus Christi, Texas 
 (TX) 78411United States\nPhone: 361-853-7899\nDescription:The use of f
 ilm-screen imaging has gone from the overwhelming choice for hospitals
  and medical facilities in 1990’s in the United Sates to less than 4
 % utilization by these same facilities as of 2011. Training for the tr
 ansition from film-screen radiography to digital imaging was often “
 on the job” as opposed to formal training.\nThis presentation provid
 es the working radiographer information which debunks the myths of dig
 ital and provides a platform of information to expand imaging skills, 
 be more efficient, and optimize their imaging techniques.\nCourse Topi
 cs • Dispelling the “myths” of digital imaging• Creating a dig
 ital image• Your CR and DR• Optimizing Technique Selections• Fac
 tors Affecting Image Quality • Image Monitors and Ergonomics Matter\
 nSelf Assessment Module (SAM): No\nInstructors:Edward Lee Friederichs,
  BS, RT(R)(N), CNMT\nSpecialty Audience:Radiology\n\nFor more informat
 ion visit https://community.radrounds.com/events/the-art-and-science-o
 f-digital-imaging-5
DTSTART:20120428T040000Z
DTEND:20120429T035900Z
CATEGORIES:radiology
LOCATION:Embassy Suites Corpus Christi
WEBSITE:http://embassysuites1.hilton.com/en_US/es/hotel/CRPSPES-Embass
 y-Suites-Corpus-Christi-Texas/index.do
URL:http://embassysuites1.hilton.com/en_US/es/hotel/CRPSPES-Embassy-Su
 ites-Corpus-Christi-Texas/index.do
CONTACT:361-853-7899
ORGANIZER:Advanced Health Education Center
ATTACH;FMTTYPE="image/jpeg":
ATTENDEE;ROLE=REQ-PARTICIPANT;PARTSTAT=ACCEPTED;RSVP=TRUE;CN="radRound
 s Radiology Events":https://community.radrounds.com/profile/radRoundsR
 adiologyEvents
END:VEVENT
END:VCALENDAR
