BEGIN:VCALENDAR
PRODID:NingEventWidget-v1
VERSION:2.0
METHOD:PUBLISH
BEGIN:VEVENT
UID:1791588:Event:116324
DTSTAMP:20260421T123321Z
SUMMARY:The Art and Science of Digital Imaging
DESCRIPTION:The Art and Science of Digital Imaging Saturday, March 24,
  2012 - Saturday, March 24, 2012McAllen Medical Center McAllen, Texas 
 (TX), United StatesProvided by Advanced Health Education Center  CME P
 rovider: Advanced Health Education Center 8502 Tybor DriveHouston, Tex
 as (TX) 77074United States\nToll Free: (800) 239-1361Phone: (713) 772-
 0157Fax: (713) 772-0155\n\nConference Center:McAllen Medical Center 30
 1 W Expressway 83-Conference Room 1CMcAllen, Texas (TX) 78503United St
 ates\nPhone: 956-632-4000\nDescription:The use of film-screen imaging 
 has gone from the overwhelming choice for hospitals and medical facili
 ties in 1990’s in the United Sates to less than 4% utilization by th
 ese same facilities as of 2011. Training for the transition from film-
 screen radiography to digital imaging was often “on the job” as op
 posed to formal training.\nThis presentation provides the working radi
 ographer information which debunks the myths of digital and provides a
  platform of information to expand imaging skills, be more efficient, 
 and optimize their imaging techniques.\nCourse Topics • Dispelling t
 he “myths” of digital imaging• Creating a digital image• Your 
 CR and DR• Optimizing Technique Selections• Factors Affecting Imag
 e Quality • Image Monitors and Ergonomics Matter\nSelf Assessment Mo
 dule (SAM): No\nInstructors:Andre Guillory, BSRS, RT(R)\nSpecialty Aud
 ience:Radiology\n\nFor more information visit https://community.radrou
 nds.com/events/the-art-and-science-of-digital-imaging-2
DTSTART:20120324T040000Z
DTEND:20120325T035900Z
CATEGORIES:radiology
LOCATION:McAllen Medical Center
WEBSITE:http://www.southtexashealthsystem.com/Facilities/McAllen-Medic
 al-Center
URL:http://www.southtexashealthsystem.com/Facilities/McAllen-Medical-C
 enter
CONTACT:956-632-4000
ORGANIZER:Advanced Health Education Center
ATTACH;FMTTYPE="image/jpeg":
ATTENDEE;ROLE=REQ-PARTICIPANT;PARTSTAT=ACCEPTED;RSVP=TRUE;CN="radRound
 s Radiology Events":https://community.radrounds.com/profile/radRoundsR
 adiologyEvents
END:VEVENT
END:VCALENDAR
