BEGIN:VCALENDAR
PRODID:NingEventWidget-v1
VERSION:2.0
METHOD:PUBLISH
BEGIN:VEVENT
UID:1791588:Event:115845
DTSTAMP:20260424T073513Z
SUMMARY:The Art and Science of Digital Imaging
DESCRIPTION:The Art and Science of Digital Imaging Saturday, February 
 25, 2012 - Saturday, February 25, 2012Ambassador Hotel Amarillo Amaril
 lo, Texas (TX), United StatesProvided by Advanced Health Education Cen
 ter  CME Provider: Advanced Health Education Center 8502 Tybor DriveHo
 uston, Texas (TX) 77074United States\nToll Free: (800) 239-1361Phone: 
 (713) 772-0157Fax: (713) 772-0155\n\nConference Center:Ambassador Hote
 l Amarillo 3100 I-40 WestAmarillo, Texas (TX) 79102United States\nPhon
 e: (806) 358-6161\nDescription:The use of film-screen imaging has gone
  from the overwhelming choice for hospitals and medical facilities in 
 1990’s in the United Sates to less than 4% utilization by these same
  facilities as of 2011. Training for the transition from film-screen r
 adiography to digital imaging was often “on the job” as opposed to
  formal training.\nThis presentation provides the working radiographer
  information which debunks the myths of digital and provides a platfor
 m of information to expand imaging skills, be more efficient, and opti
 mize their imaging techniques.\nCourse Topics • Dispelling the “my
 ths” of digital imaging• Creating a digital image• Your CR and D
 R• Optimizing Technique Selections• Factors Affecting Image Qualit
 y • Image Monitors and Ergonomics Matter\nSelf Assessment Module (SA
 M): No\nInstructors:Andre Guillory, BSRS, RT(R)\nSpecialty Audience:Ra
 diology\n\nFor more information visit https://community.radrounds.com/
 events/the-art-and-science-of-digital-imaging-1
DTSTART:20120225T050000Z
DTEND:20120226T045900Z
CATEGORIES:radiology
LOCATION:Ambassador Hotel Amarillo
WEBSITE:http://www.ambassadoramarillo.com/
URL:http://www.ambassadoramarillo.com/
CONTACT:(806) 358-6161
ORGANIZER:Advanced Health Education Center
ATTACH;FMTTYPE="image/jpeg":
ATTENDEE;ROLE=REQ-PARTICIPANT;PARTSTAT=ACCEPTED;RSVP=TRUE;CN="radRound
 s Radiology Events":https://community.radrounds.com/profile/radRoundsR
 adiologyEvents
END:VEVENT
END:VCALENDAR
