BEGIN:VCALENDAR
PRODID:NingEventWidget-v1
VERSION:2.0
METHOD:PUBLISH
BEGIN:VEVENT
UID:1791588:Event:123245
DTSTAMP:20260422T014022Z
SUMMARY:The 3 R’s: Radiology, Ropes and Risks
DESCRIPTION:Join AHEC for this new course designed to provide you with
  knowledge of some of the ethical and legal issues that may confront t
 he radiographer in everyday practice.  The course begins with a revie
 w of the current ASRT Radiography Standards of Practice.  You will be
   provided with case scenarios regarding practice, and will participa
 te by identifying those actions that adhere to the standards and those
  that do not.  Next will be need to know information and discussions 
 on the ARRT Rules of Ethics, Informed Consent, Contrast Media and asso
 ciated risks, and finally Patient Radiation Dose.  You will enjoy thi
 s new interactive course which will allow you to participate in solvin
 g case scenarios related to each specific topic throughout the day.  
 Legal and ethical consequences are intertwined throughout each topic.\
 n\nFor more information visit https://community.radrounds.com/events/t
 he-3-r-s-radiology-ropes-and-risks
DTSTART:20120721T120000Z
DTEND:20120721T201500Z
CATEGORIES:ce, course
LOCATION:Partridge Inn
WEBSITE:http://store.aheconline.com/DisplayDetail.aspx?pid=7325
URL:http://store.aheconline.com/DisplayDetail.aspx?pid=7325
CONTACT:800-239-1361
ORGANIZER:Advanced Health Education Center
ATTACH;FMTTYPE="image/jpeg":
ATTENDEE;ROLE=REQ-PARTICIPANT;PARTSTAT=ACCEPTED;RSVP=TRUE;CN="Larry Ca
 rney":https://community.radrounds.com/profile/LarryCarney
END:VEVENT
END:VCALENDAR
