BEGIN:VCALENDAR
PRODID:NingEventWidget-v1
VERSION:2.0
METHOD:PUBLISH
BEGIN:VEVENT
UID:1791588:Event:172278
DTSTAMP:20260421T075215Z
SUMMARY:That Can Never Happen to Me! - Medical Legal Issues in Imaging
  (Live Webinar)
DESCRIPTION:In order to \"survive and thrive\" in today's litigious me
 dical environment technologists must expand their knowledge and role i
 n medical legal issues. Join us in looking at the legal issues raised 
 by this medical revolution and the adaptation of old laws to meet new 
 realities.\n\nFor more information visit https://community.radrounds.c
 om/events/that-can-never-happen-to-me-medical-legal-issues-in-imaging-
 live
DTSTART:20170601T220000Z
DTEND:20170601T230000Z
CATEGORIES:live, webinar
LOCATION:Advanced Health Education Center
WEBSITE:https://store.aheconline.com/index.php?route=product/product&p
 ath=59_167&product_id=3037
URL:https://store.aheconline.com/index.php?route=product/product&path=
 59_167&product_id=3037
CONTACT:800-239-1361
ORGANIZER;CN="Larry Carney":https://community.radrounds.com/profile/La
 rryCarney
ATTACH;FMTTYPE="image/jpeg":
ATTENDEE;ROLE=REQ-PARTICIPANT;PARTSTAT=ACCEPTED;RSVP=TRUE;CN="Larry Ca
 rney":https://community.radrounds.com/profile/LarryCarney
END:VEVENT
END:VCALENDAR
