BEGIN:VCALENDAR
PRODID:NingEventWidget-v1
VERSION:2.0
METHOD:PUBLISH
BEGIN:VEVENT
UID:1791588:Event:116057
DTSTAMP:20260423T222117Z
SUMMARY:Telluride Sports Medicine and GI Update Spring Break 2
DESCRIPTION:Telluride Sports Medicine and GI Update Spring Break 2 Mon
 day, March 19, 2012 - Wednesday, March 21, 2012Ice House Lodge Confere
 nce Ro Telluride, Colorado (CO), United StatesProvided by DW Renner, I
 nc  CME Provider: DW Renner, Inc William Renner M.D.3517 Brookwood Mea
 dowCincinnati, Ohio (OH) 45208United StatesPhone: 513-321-3438\nConfer
 ence Center:Ice House Lodge Conference Ro 310 S Fir StTelluride, Color
 ado (CO) 81435United States\nToll Free: 800-544-3436Phone: 800-544-343
 6 Description:20% discount off room rates to conference attendants at 
 Ice House Lodge. Due to the popularity of these dates, a room block ca
 nnot be held. Reserve your rooms now!\nPlease join us for this interes
 ting review of sports medicine and GI disease with imaging. Practical 
 Musculoskeletal MR Scan Interpretation will be emphasized in the live 
 lectures. A 120 page syllabus of the course slides is included as well
  as Dr Renner’s Workbooks in “Musculoskeletal MR Cases” and “G
 I Cases Workbook.” The live lectures are on Sports Medicine and Musc
 uloskeletal MR while the GI section is self-study in the GI Cases Work
 book written by Dr Renner for this lecture series. Lectures include 
 Question and Answer Sessions” with Dr Renner in Musculoskeletal MR 
 and GI Imaging. All meetings are at our conference room at Ice House L
 odge which is a short walk to the Telluride Ski Resort and the free go
 ndola. Stay there or one of the nearby hotels in Telluride Colorado wh
 ich is connected by the free gondola.\nWHO SHOULD ATTENDRadiologists, 
 Sports Medicine Physicians, Orthopedic Surgeons, Family Practice, Inte
 rnal Medicine, Gastroenterologists, Physician Assistants, Residents an
 d Radiology Technologists\nSpeaker: William R Renner, M.D.\nSelf Asses
 sment Module (SAM): Yes\nInstructors:William Renner, M.D.\nSpecialty A
 udience:Emergency MedicineFamily MedicineInternal MedicineRadiologySur
 gery\n\nFor more information visit https://community.radrounds.com/eve
 nts/telluride-sports-medicine-and-gi-update-spring-break-2
DTSTART:20120319T040000Z
DTEND:20120322T035900Z
CATEGORIES:radiology
LOCATION:Ice House Lodge Conference Ro
WEBSITE:http://www.icehouselodge.com/
URL:http://www.icehouselodge.com/
CONTACT:800-544-3436
ORGANIZER:DW Renner, Inc
ATTACH;FMTTYPE="image/jpeg":
ATTENDEE;ROLE=REQ-PARTICIPANT;PARTSTAT=ACCEPTED;RSVP=TRUE;CN="radRound
 s Radiology Events":https://community.radrounds.com/profile/radRoundsR
 adiologyEvents
END:VEVENT
END:VCALENDAR
