BEGIN:VCALENDAR
PRODID:NingEventWidget-v1
VERSION:2.0
METHOD:PUBLISH
BEGIN:VEVENT
UID:1791588:Event:172638
DTSTAMP:20260424T062400Z
SUMMARY:Technical Challenges for Radiographers (Live Event)
DESCRIPTION:If you want a fast paced course, full of futuristic and cu
 rrent evolving technology, then this is the class for you.  You will 
 discover how digital exposure technique has changed; gain an understan
 ding of what low dose CT is (you don’t have to be a CT technologist 
 to find this interesting); discuss methods to modifying procedures for
  bariatric patients; unravel the mysteries of genetics and molecular i
 maging; and learn how interventional imaging has evolved.  All these 
 topics make for a fast paced and beneficial learning experience for yo
 u!\n\nFor more information visit https://community.radrounds.com/event
 s/technical-challenges-for-radiographers-live-event
DTSTART:20170916T120000Z
DTEND:20170916T201500Z
CATEGORIES:live, event
LOCATION:TBD
WEBSITE:https://store.aheconline.com/index.php?route=product/product&p
 ath=59&product_id=3124
URL:https://store.aheconline.com/index.php?route=product/product&path=
 59&product_id=3124
CONTACT:800-239-1361
ORGANIZER;CN="Larry Carney":https://community.radrounds.com/profile/La
 rryCarney
ATTACH;FMTTYPE="image/jpeg":
ATTENDEE;ROLE=REQ-PARTICIPANT;PARTSTAT=ACCEPTED;RSVP=TRUE;CN="Larry Ca
 rney":https://community.radrounds.com/profile/LarryCarney
END:VEVENT
END:VCALENDAR
