BEGIN:VCALENDAR
PRODID:NingEventWidget-v1
VERSION:2.0
METHOD:PUBLISH
BEGIN:VEVENT
UID:1791588:Event:168040
DTSTAMP:20260420T084031Z
SUMMARY:Technical Challenges for Radiographers
DESCRIPTION:Course Topics\n\nDigital Exposure Techniques\nLow Dose CT\
 nBariatric Patients\nGenetics and Imaging\nInterventional Imaging\n\n\
 nFor more information visit https://community.radrounds.com/events/tec
 hnical-challenges-for-radiographers-1
DTSTART:20160917T130000Z
DTEND:20160917T203000Z
CATEGORIES:live, event
LOCATION:Houston
WEBSITE:https://store.aheconline.com/index.php?route=product/product&p
 ath=59&product_id=2295
URL:https://store.aheconline.com/index.php?route=product/product&path=
 59&product_id=2295
CONTACT:18002391361
ORGANIZER;CN="Larry Carney":https://community.radrounds.com/profile/La
 rryCarney
ATTACH;FMTTYPE="image/jpeg":
ATTENDEE;ROLE=REQ-PARTICIPANT;PARTSTAT=ACCEPTED;RSVP=TRUE;CN="Larry Ca
 rney":https://community.radrounds.com/profile/LarryCarney
END:VEVENT
END:VCALENDAR
