BEGIN:VCALENDAR
PRODID:NingEventWidget-v1
VERSION:2.0
METHOD:PUBLISH
BEGIN:VEVENT
UID:1791588:Event:116286
DTSTAMP:20260422T222822Z
SUMMARY:Take This Job and Love It!
DESCRIPTION:Take This Job and Love It! Saturday, May 19, 2012 - Saturd
 ay, May 19, 2012Wyndham Hotel Love Field Dallas, Texas (TX), United St
 atesProvided by Advanced Health Education Center  CME Provider: Advanc
 ed Health Education Center 8502 Tybor DriveHouston, Texas (TX) 77074Un
 ited States\nToll Free: (800) 239-1361Phone: (713) 772-0157Fax: (713) 
 772-0155\n\nConference Center:Wyndham Hotel Love Field 3300 W. Mocking
 bird LaneDallas, Texas (TX) 75235United States\nPhone: (214) 357-8500\
 n Description:Providing excellent quality imaging and patient care wit
 h exceptional customer service is an integral part of the Radiology De
 partment. Faced with challenges every day we must remain focused on im
 aging skills and patient safety. Communication affects every aspect of
  our job and our ability to gain patient compliance. Patient focused c
 ommunication will be a main focus of this course discussing communicat
 ion barriers and evaluating our communication skills. The course will 
 conclude with medical legal issues that affect the radiology departmen
 t and imaging professional. This day of learning will be guided by fac
 ulty that understand the benefits of engaging the class participants i
 n activities and scenarios that teach you how to apply quality managem
 ent theory and process to real life work situations. This course will 
 combine instructor presentations and interactive sessions with the opp
 ortunity to take a look your communication skills, medical legal issue
 s and real case scenarios where you will be the judge. We all must kno
 w how to deal with the day to day problems which can be roadblocks to 
 keeping us and our patients happy and be able to provide them with the
  “Warm Fuzzy” of imaging. Join AHEC for a day of education and int
 eraction which will enhance your networking and professional developme
 nt. You will love it!\nCourse Topics • Quality Imaging: Whose Job Is
  It?• Patient Care vs. Customer Service • Patient Focused Communic
 ation• That Couldn’t Happen to Me! Medical Legal Issues in Radiolo
 gy• Real Case Scenarios & Discussions• The “Warm Fuzzy” of Ima
 ging\nSelf Assessment Module (SAM): No\nInstructors:Peggy Hoosier, MEd
 , RT(R)(M)\nSpecialty Audience:Radiology\n\nFor more information visit
  https://community.radrounds.com/events/take-this-job-and-love-it
DTSTART:20120519T040000Z
DTEND:20120520T035900Z
CATEGORIES:radiology
LOCATION:Wyndham Hotel Love Field
WEBSITE:http://www.wyndham.com/hotels/DALAP/main.wnt
URL:http://www.wyndham.com/hotels/DALAP/main.wnt
CONTACT:(214) 357-8500
ORGANIZER:Advanced Health Education Center
ATTACH;FMTTYPE="image/jpeg":
ATTENDEE;ROLE=REQ-PARTICIPANT;PARTSTAT=ACCEPTED;RSVP=TRUE;CN="radRound
 s Radiology Events":https://community.radrounds.com/profile/radRoundsR
 adiologyEvents
END:VEVENT
END:VCALENDAR
