BEGIN:VCALENDAR
PRODID:NingEventWidget-v1
VERSION:2.0
METHOD:PUBLISH
BEGIN:VEVENT
UID:1791588:Event:151855
DTSTAMP:20260421T043801Z
SUMMARY:Super Tech Makeover
DESCRIPTION:Join AHEC for a class designed with you, the “super-tech
 ”, in mind. Radiology is a profession to be proud of requires you to
  keep your skills top-notch! You love what you do and know you make a 
 difference. Every radiographer will enjoy this day of education and en
 tertainment sure to keep your attention. This course covers multiple t
 opics of interest, from principles of imaging to advanced positioning.
  We will test your professional IQ with topics on advancements in imag
 ing and quality management. Then, we will massage your mind with inter
 esting trauma and fracture cases to round out this day. This “makeov
 er” is just what you need in 2014 to give you a new sense of power a
 nd passion for your role in radiology for you the “super-tech”!\n\
 nFor more information visit https://community.radrounds.com/events/sup
 er-tech-makeover-3
DTSTART:20140328T120000Z
DTEND:20140328T201500Z
CATEGORIES:"ce:", "rt/diagnostic"
LOCATION:Advanced Health Education Center
WEBSITE:https://store2.aheconline.com/index.php?route=product/product&
 path=59&product_id=1090
URL:https://store2.aheconline.com/index.php?route=product/product&path
 =59&product_id=1090
CONTACT:
ORGANIZER;CN="Larry Carney":https://community.radrounds.com/profile/La
 rryCarney
ATTACH;FMTTYPE="image/jpeg":
ATTENDEE;ROLE=REQ-PARTICIPANT;PARTSTAT=ACCEPTED;RSVP=TRUE;CN="Larry Ca
 rney":https://community.radrounds.com/profile/LarryCarney
END:VEVENT
END:VCALENDAR
