BEGIN:VCALENDAR
PRODID:NingEventWidget-v1
VERSION:2.0
METHOD:PUBLISH
BEGIN:VEVENT
UID:1791588:Event:110864
DTSTAMP:20260421T154835Z
SUMMARY:Successful Stereotactic Breast Biopsies
DESCRIPTION:ATTN radiologic technologists, mammographers, sonographers
 , breast biopsy coordinators, breast health clinicians, nurses, and me
 dical imaging managers!\n\nMTMI is offering Successful Stereotactic Br
 east Biopsies!  Learn the basics of Stereotactic Breast Biopsies as w
 ell as the tricks of the trade from an experienced technologist and su
 pervisor. Topics covered include quality assurance and patient documen
 tation.\n \nThis seminar also reviews the ACR accreditation requireme
 nts and fulfills the credits required for accreditation.\n \nSeminar 
 offers 8 Hours ARRT Category A Credit.\n\n \nCLICK HERE TO REGISTER N
 OW!\n \n\nFor more information visit https://community.radrounds.com/
 events/successful-stereotactic-breast-biopsies-2
DTSTART:20120428T040000Z
DTEND:20120429T035900Z
CATEGORIES:"seminar/conference"
LOCATION:Kansas City, MO
WEBSITE:http://www.mtmi.net/seminars/stereoBB.php
URL:http://www.mtmi.net/seminars/stereoBB.php
CONTACT:(800) 765-6864
ORGANIZER:Medical Technology Management Institute (MTMI)
ATTACH;FMTTYPE="image/jpeg":http://storage.ning.com/topology/rest/1.0/
 file/get/1044737222?profile=original
ATTENDEE;ROLE=REQ-PARTICIPANT;PARTSTAT=ACCEPTED;RSVP=TRUE;CN="Rizza T.
  Kinney":https://community.radrounds.com/profile/RizzaTKinney
END:VEVENT
END:VCALENDAR
