BEGIN:VCALENDAR
PRODID:NingEventWidget-v1
VERSION:2.0
METHOD:PUBLISH
BEGIN:VEVENT
UID:1791588:Event:116284
DTSTAMP:20260422T222921Z
SUMMARY:Stoller's Comprehensive Musculoskeletal Imaging in Brazil
DESCRIPTION:Stoller's Comprehensive Musculoskeletal Imaging in Brazil 
 Friday, May 18, 2012 - Sunday, May 20, 2012Renaissance São Paulo Hote
 l São Paulo, BrazilProvided by CME Science  CME Provider: CME Science
  3790 El Camino Real Suite 2029Palo Alto, California (CA) 94306United 
 States\nToll Free: (800) 383-7116Phone: (213) 342-1263Fax: (650) 887-2
 113\n\nConference Center:Renaissance São Paulo Hotel Alameda Santos, 
 2233São Paulo, 01419-002Brazil\nPhone: 55-11-3069-2233\n Description:
 Upon completion of program, participants should be able to:\nDevelop a
  shoulder checklist method including interpretation techniques for the
  rotator cuff and interval, biceps labral complex, inferior glenohumer
 al ligament complex, and capsular structures including the anterior ba
 nd.\nIdentify glenoid wear patterns in multidirectional instability, m
 icroinstability, anterior andposterior instability.\nDevelop a knee ch
 ecklist with foolproof ACL diagnosis and techniques for prospective di
 agnosis of all types of meniscal tears, differentiating circumferentia
 l surface from cross sectional tear patterns. Introduce strategies in 
 the evaluation of the cruciate ligaments, posterolateral instability, 
 and articular cartilage.\nDevelop a femoroacetabular impingement check
 list and distinguish between FAI and DDH pathology.\nDiscuss approache
 s for accurate acetabular-labral tear identification.\nIntroduce ortho
 pedic articular cartilage classification for the acetabular roof.\nDev
 elop an ankle checklist including articulations, ligaments, tendons an
 d articular cartilage. Understand all types of soft tissue ankle impin
 gement and posterior ligamentous and subtalar joint anatomy.\nDevelop 
 a wrist checklist with emphasis on the intrinsic and extrinsic ligamen
 ts and the triangular fibrocartilage. Understand the relevance of peri
 lunate instability, SLAC and triscaphe arthritis.\nSelf Assessment Mod
 ule (SAM): No\nInstructors:David W. Stoller, M.D., F.A.C.R.Director, N
 ational Orthopaedics Imaging Associates andMRI at California Pacific M
 edical Center, San Francisco, CAAdjunct Professor of Radiology, Johns 
 HopkinsUniversity School of Medicine, Baltimore, MD\nSpecialty Audienc
 e:Radiology\n\nFor more information visit https://community.radrounds.
 com/events/stoller-s-comprehensive-musculoskeletal-imaging-in-brazil
DTSTART:20120518T040000Z
DTEND:20120521T035900Z
CATEGORIES:radiology
LOCATION:Renaissance São Paulo Hotel
WEBSITE:http://www.marriott.com.br/saobr
URL:http://www.marriott.com.br/saobr
CONTACT:55-11-3069-2233
ORGANIZER:CME Science
ATTACH;FMTTYPE="image/jpeg":
ATTENDEE;ROLE=REQ-PARTICIPANT;PARTSTAT=ACCEPTED;RSVP=TRUE;CN="radRound
 s Radiology Events":https://community.radrounds.com/profile/radRoundsR
 adiologyEvents
END:VEVENT
END:VCALENDAR
