BEGIN:VCALENDAR
PRODID:NingEventWidget-v1
VERSION:2.0
METHOD:PUBLISH
BEGIN:VEVENT
UID:1791588:Event:117605
DTSTAMP:20260419T075336Z
SUMMARY:Stoller's Comprehensive Musculoskeletal Imaging in Asia
DESCRIPTION:The Wynn Macau has been awarded top honors from Forbes, Mo
 bil and Michelin and is the undisputed leader in quality and luxury on
  Macau.Each room features over 56 square meters of floor space, comple
  te with floor to ceiling windows offering dramatic views, separate si
 tting area, and all the ameni ties and luxuries you would expect.\nA s
 pecial rate of HKD1,600.00 (approx. $200 US) per room per night for a 
 Deluxe Room has been reserved for our conference participants. This ra
 te is for single or double occupancy and is subject to tax. To receive
  this special rate, please make your reservation no later than March 1
 4, 2012. Rooms at this special rate have been reserved for attendees o
 n a first-come, first-served basis and may sell out before the cut-off
  date. Don’t be disappointed by waiting too long; reserve your room 
 now online at www.WynnMacau.com and enter the special attendee code 90
 42, or phone Wynn Macau Room Reservations Department at (853) 8986-996
 6. Please identify yourself as a par ticipant of the Stoller conferenc
 e, group code 120415CME, attendee code 9042. For more information on t
 he Wynn Macau Resort, please visit their website at http://www.WynnMac
 au.com.\n\nFor more information visit https://community.radrounds.com/
 events/stoller-s-comprehensive-musculoskeletal-imaging-in-asia-1
DTSTART:20120416T040000Z
DTEND:20120418T035900Z
CATEGORIES:radiology
LOCATION:Macau
WEBSITE:http://www.WynnMacau.com
URL:http://www.WynnMacau.com
CONTACT:(853) 8986-9966
ORGANIZER:CME Science
ATTACH;FMTTYPE="image/jpeg":
ATTENDEE;ROLE=REQ-PARTICIPANT;PARTSTAT=ACCEPTED;RSVP=TRUE;CN="radRound
 s Radiology Events":https://community.radrounds.com/profile/radRoundsR
 adiologyEvents
END:VEVENT
END:VCALENDAR
