BEGIN:VCALENDAR
PRODID:NingEventWidget-v1
VERSION:2.0
METHOD:PUBLISH
BEGIN:VEVENT
UID:1791588:Event:115870
DTSTAMP:20260424T032538Z
SUMMARY:Stoller: A Comprehensive Tutorial in Musculoskeletal Imaging
DESCRIPTION:Stoller: A Comprehensive Tutorial in Musculoskeletal Imagi
 ng Thursday, March 08, 2012 - Saturday, March 10, 2012Encore Las Vegas
  Las Vegas, Nevada (NV), United StatesProvided by CME Science  CME Pro
 vider: CME Science 3790 El Camino Real Suite 2029Palo Alto, California
  (CA) 94306United States\nToll Free: (800) 383-7116Phone: (213) 342-12
 63Fax: (650) 887-2113\n\nConference Center:Encore Las Vegas 3121 Las V
 egas Blvd SouthLas Vegas, Nevada (NV) 89109United States\nToll Free: (
 888) 320-7125Phone: (702) 770-7171Fax: (702) 770-1571\nDescription:Upo
 n completion of this program, participants should be able to:\n- Devel
 op a shoulder checklist method including interpretation techniques for
  the rotator cuff and interval, biceps labral complex, inferior glenoh
 umeral ligament complex, and capsular structures including the anterio
 r band.\n- Identify glenoid wear patterns in multidirectional instabil
 ity, microinstability, anterior and posterior instability.\n- Develop 
 knee checklist with foolproof ACL diagnosis and techniques for prospec
 tive diagnosis of all types of meniscal tears, differentiating circumf
 erential surface from cross sectional tear patterns.\n- Introduce stra
 tegies in the evaluation of the cruciate ligaments, posterolateral ins
 tability, and articular cartilage.\n- Develop a femoroacetabular impin
 gement checklist and distinguish between FAI and DDH pathology. Discus
 s approaches for accurate acetabular-labral tear identification.Introd
 uce orthopedic articular cartilage classification for the acetabular r
 oof.\n- Develop an ankle checklist including articulations, ligaments,
  tendons and articular cartilage. Understand all types of soft tissue 
 ankle impingement and posterior ligamentous and subtalar joint anatomy
 .\n- Develop a wrist checklist with emphasis on the intrinsic and extr
 insic ligaments and the triangular fibrocartilage. Understand the rele
 vance of perilunate instability, SLAC, and triscaphe arthritis.\n- Dev
 elop an elbow checklist with the ability to differentiate epicondyliti
 s frominstability patterns and understand posterolateral instability a
 nd the Circle of Horii.\nSelf Assessment Module (SAM): No\nInstructors
 :David W. Stoller, M.D., F.A.C.R.Director, National Orthopaedics Imagi
 ng Associates andMRI at California Pacific Medical Center, San Francis
 co, CA Adjunct Professor of Radiology, Johns Hopkins University School
  of Medicine, Baltimore, MD\nSpecialty Audience:Radiology\n\nFor more 
 information visit https://community.radrounds.com/events/stoller-a-com
 prehensive-tutorial-in-musculoskeletal-imaging
DTSTART:20120308T050000Z
DTEND:20120311T045900Z
CATEGORIES:radiology
LOCATION:Encore Las Vegas
WEBSITE:http://www.encorelasvegas.com/#/homepage/
URL:http://www.encorelasvegas.com/#/homepage/
CONTACT:(702) 770-7171
ORGANIZER:CME Science
ATTACH;FMTTYPE="image/jpeg":
ATTENDEE;ROLE=REQ-PARTICIPANT;PARTSTAT=ACCEPTED;RSVP=TRUE;CN="radRound
 s Radiology Events":https://community.radrounds.com/profile/radRoundsR
 adiologyEvents
END:VEVENT
END:VCALENDAR
